BEGIN:VCALENDAR
VERSION:2.0
PRODID:-//hacksw/handcal//NONSGML v1.0//EN
BEGIN:VEVENT
SUMMARY:Finale R1 Qualif 45 - 3 USMM45-1 contre SLB45-1
UID:11497e10-d123-41d1-b275-0e8789f922be
DTSTART:20260401T220000Z
DTEND:20260402T220000Z
LOCATION:Localisation   
CATEGORIES:Sportif
STATUS:
URL;VALUE=URI:https://www.sullylesbordesbadminton.fr/evenements/2026/04/02/finale-r1-qualif-45-3-usmm45-1-contre-slb45-1-2438165
END:VEVENT
END:VCALENDAR
